BEGIN:VCALENDAR
VERSION:2.0
PRODID:-//North Rockland Chamber of Commerce - ECPv6.15.20//NONSGML v1.0//EN
CALSCALE:GREGORIAN
METHOD:PUBLISH
X-ORIGINAL-URL:https://northrocklandchamber.org
X-WR-CALDESC:Events for North Rockland Chamber of Commerce
REFRESH-INTERVAL;VALUE=DURATION:PT1H
X-Robots-Tag:noindex
X-PUBLISHED-TTL:PT1H
BEGIN:VTIMEZONE
TZID:America/New_York
BEGIN:DAYLIGHT
TZOFFSETFROM:-0500
TZOFFSETTO:-0400
TZNAME:EDT
DTSTART:20160313T070000
END:DAYLIGHT
BEGIN:STANDARD
TZOFFSETFROM:-0400
TZOFFSETTO:-0500
TZNAME:EST
DTSTART:20161106T060000
END:STANDARD
BEGIN:DAYLIGHT
TZOFFSETFROM:-0500
TZOFFSETTO:-0400
TZNAME:EDT
DTSTART:20170312T070000
END:DAYLIGHT
BEGIN:STANDARD
TZOFFSETFROM:-0400
TZOFFSETTO:-0500
TZNAME:EST
DTSTART:20171105T060000
END:STANDARD
BEGIN:DAYLIGHT
TZOFFSETFROM:-0500
TZOFFSETTO:-0400
TZNAME:EDT
DTSTART:20180311T070000
END:DAYLIGHT
BEGIN:STANDARD
TZOFFSETFROM:-0400
TZOFFSETTO:-0500
TZNAME:EST
DTSTART:20181104T060000
END:STANDARD
BEGIN:DAYLIGHT
TZOFFSETFROM:-0500
TZOFFSETTO:-0400
TZNAME:EDT
DTSTART:20190310T070000
END:DAYLIGHT
BEGIN:STANDARD
TZOFFSETFROM:-0400
TZOFFSETTO:-0500
TZNAME:EST
DTSTART:20191103T060000
END:STANDARD
END:VTIMEZONE
BEGIN:VEVENT
DTSTART;VALUE=DATE:20181201
DTEND;VALUE=DATE:20181202
DTSTAMP:20260423T010031
CREATED:20171115T170900Z
LAST-MODIFIED:20181114T183626Z
UID:10000063-1543622400-1543708799@northrocklandchamber.org
SUMMARY:Holidays in Haverstraw
DESCRIPTION:Save the date!! \nSaturday\, Dec. 1\, 2018 \nHolidays in Haverstraw\n  \nLucas Candies – 6 Main Street  \n12 pm\, 3 pm or 6 pm… live Candy Cane Demonstration \n  \nHaverstraw Riverwide Arts \nThe unveiling of their 3rd Community Tile Project will be at 12 pm in front of Village Hall \n  \nTown Liquor Store – 25 main street \nALL DAY wine selection and Sangria options $4.99 \nFree wine tastings!  1 pm – 5 pm \n  \nHaverstraw Brick Museum – 8 Main Street \nSoft opening during the Holidays in Haverstraw \nCheck website for times www.NorthRocklandChamber.org/Events \n  \nVictorian Tea at Bricktown Inn B&B – 112 Hudson Ave \n12:30 & 3:30 pm…$30 per person – reservation required 845-429-8447 \n  \nFREE at Central Presbyterian Church 64 New Main St. \n2 pm…Holiday Concert Featuring the Rockland County Concert Band – Refreshments sponsored by: the North Rockland Chamber of Commerce \n  \nVilmas Bakery – 29 Main Streety\n \nDelicious desserts $1 – $7 \nAND Free small samples \n  \nDon Coqui\, 16 Main Street \n2 pm – 6:30 pm… Prix Fix menu 3 course prefix menu and a glass of their famous Sangria plus tax and gratuity.  While you enjoy your meal\, there will be \na letter writing to Santa for the children. \nOR join us at the bar for we will offer half priced appetizers and drinks! \n  \nUnion Restaurant & Bar Latino – 24 New Main \n4 pm – 6 pm… Prix Fix 3 course menu\, includes dessert – $25 \nLast order must be in BY 6 pm \n  \nDelicias Mexicana – 4 West Street  \nBurritos Fajita – Chicken or Steak $8 \nCombo – Cheese Flauta\, Quesadilla cheese or beef\, Chile Relleno – Cheese\, served with rice\, guacamole and sour cream $10 \n  \nTacos Marianita – 10 West Street \nCeviche\, Guacamole served with chips and salsa $8 \nAny three tacos $7 \n  \nUNoodles Snack Bar – 14 Main Street \n4 pm-7 pm… Happy Hour \nThree beers for $10 \n$5 ea. Margharita\, Cosmo\, Pink Apotheker and Sidekick! \nCome and check out the “El Cheapo” Wine \n  \n Tree Lighting & Carolers  \n4:30 pm FREE at Village Clock followed by Supper with Santa – FREE at Haverstraw Community Center   \n               Sponsored by the North Rockland Chamber of Commerce\, northrocklandchamber.org/event/holidays-in-haverstraw/ The Village of Haverstraw and the ’42 Club
URL:https://northrocklandchamber.org/event/holidays-in-haverstraw/
LOCATION:Village of West Haverstraw
END:VEVENT
BEGIN:VEVENT
DTSTART;VALUE=DATE:20170602
DTEND;VALUE=DATE:20170603
DTSTAMP:20260423T010031
CREATED:20170412T191345Z
LAST-MODIFIED:20170412T191345Z
UID:10000011-1496361600-1496447999@northrocklandchamber.org
SUMMARY:Dancing Under the Stars
DESCRIPTION:Showtime Dance Band will be performing
URL:https://northrocklandchamber.org/event/dancing-under-the-stars/
LOCATION:Village of West Haverstraw
CATEGORIES:Community Event,Rockland Events
END:VEVENT
END:VCALENDAR