BEGIN:VCALENDAR
VERSION:2.0
PRODID:-//North Rockland Chamber of Commerce - ECPv6.15.20//NONSGML v1.0//EN
CALSCALE:GREGORIAN
METHOD:PUBLISH
X-WR-CALNAME:North Rockland Chamber of Commerce
X-ORIGINAL-URL:https://northrocklandchamber.org
X-WR-CALDESC:Events for North Rockland Chamber of Commerce
REFRESH-INTERVAL;VALUE=DURATION:PT1H
X-Robots-Tag:noindex
X-PUBLISHED-TTL:PT1H
BEGIN:VTIMEZONE
TZID:America/New_York
BEGIN:DAYLIGHT
TZOFFSETFROM:-0500
TZOFFSETTO:-0400
TZNAME:EDT
DTSTART:20160313T070000
END:DAYLIGHT
BEGIN:STANDARD
TZOFFSETFROM:-0400
TZOFFSETTO:-0500
TZNAME:EST
DTSTART:20161106T060000
END:STANDARD
BEGIN:DAYLIGHT
TZOFFSETFROM:-0500
TZOFFSETTO:-0400
TZNAME:EDT
DTSTART:20170312T070000
END:DAYLIGHT
BEGIN:STANDARD
TZOFFSETFROM:-0400
TZOFFSETTO:-0500
TZNAME:EST
DTSTART:20171105T060000
END:STANDARD
BEGIN:DAYLIGHT
TZOFFSETFROM:-0500
TZOFFSETTO:-0400
TZNAME:EDT
DTSTART:20180311T070000
END:DAYLIGHT
BEGIN:STANDARD
TZOFFSETFROM:-0400
TZOFFSETTO:-0500
TZNAME:EST
DTSTART:20181104T060000
END:STANDARD
BEGIN:DAYLIGHT
TZOFFSETFROM:-0500
TZOFFSETTO:-0400
TZNAME:EDT
DTSTART:20190310T070000
END:DAYLIGHT
BEGIN:STANDARD
TZOFFSETFROM:-0400
TZOFFSETTO:-0500
TZNAME:EST
DTSTART:20191103T060000
END:STANDARD
BEGIN:DAYLIGHT
TZOFFSETFROM:-0500
TZOFFSETTO:-0400
TZNAME:EDT
DTSTART:20200308T070000
END:DAYLIGHT
BEGIN:STANDARD
TZOFFSETFROM:-0400
TZOFFSETTO:-0500
TZNAME:EST
DTSTART:20201101T060000
END:STANDARD
BEGIN:DAYLIGHT
TZOFFSETFROM:-0500
TZOFFSETTO:-0400
TZNAME:EDT
DTSTART:20210314T070000
END:DAYLIGHT
BEGIN:STANDARD
TZOFFSETFROM:-0400
TZOFFSETTO:-0500
TZNAME:EST
DTSTART:20211107T060000
END:STANDARD
BEGIN:DAYLIGHT
TZOFFSETFROM:-0500
TZOFFSETTO:-0400
TZNAME:EDT
DTSTART:20220313T070000
END:DAYLIGHT
BEGIN:STANDARD
TZOFFSETFROM:-0400
TZOFFSETTO:-0500
TZNAME:EST
DTSTART:20221106T060000
END:STANDARD
BEGIN:DAYLIGHT
TZOFFSETFROM:-0500
TZOFFSETTO:-0400
TZNAME:EDT
DTSTART:20230312T070000
END:DAYLIGHT
BEGIN:STANDARD
TZOFFSETFROM:-0400
TZOFFSETTO:-0500
TZNAME:EST
DTSTART:20231105T060000
END:STANDARD
BEGIN:DAYLIGHT
TZOFFSETFROM:-0500
TZOFFSETTO:-0400
TZNAME:EDT
DTSTART:20240310T070000
END:DAYLIGHT
BEGIN:STANDARD
TZOFFSETFROM:-0400
TZOFFSETTO:-0500
TZNAME:EST
DTSTART:20241103T060000
END:STANDARD
BEGIN:DAYLIGHT
TZOFFSETFROM:-0500
TZOFFSETTO:-0400
TZNAME:EDT
DTSTART:20250309T070000
END:DAYLIGHT
BEGIN:STANDARD
TZOFFSETFROM:-0400
TZOFFSETTO:-0500
TZNAME:EST
DTSTART:20251102T060000
END:STANDARD
BEGIN:DAYLIGHT
TZOFFSETFROM:-0500
TZOFFSETTO:-0400
TZNAME:EDT
DTSTART:20260308T070000
END:DAYLIGHT
BEGIN:STANDARD
TZOFFSETFROM:-0400
TZOFFSETTO:-0500
TZNAME:EST
DTSTART:20261101T060000
END:STANDARD
BEGIN:DAYLIGHT
TZOFFSETFROM:-0500
TZOFFSETTO:-0400
TZNAME:EDT
DTSTART:20270314T070000
END:DAYLIGHT
BEGIN:STANDARD
TZOFFSETFROM:-0400
TZOFFSETTO:-0500
TZNAME:EST
DTSTART:20271107T060000
END:STANDARD
END:VTIMEZONE
BEGIN:VEVENT
DTSTART;TZID=America/New_York:20260329T110000
DTEND;TZID=America/New_York:20260329T150000
DTSTAMP:20260422T204452
CREATED:20260205T195312Z
LAST-MODIFIED:20260206T021909Z
UID:10000282-1774782000-1774796400@northrocklandchamber.org
SUMMARY:ROCKLAND COUNTY YOUTHFEST
DESCRIPTION:Mark your calendar! YouthFest 2026 will be Sunday\, March 29th\, 2026. This year’s event will take place at the Rockland Community College Fieldhouse from 11:00 AM to 3:00 PM. \nAs always\, we aim to make YouthFest a vibrant celebration of our community\, and your participation as a vendor or sponsor is a huge part of its success. Below\, you’ll find the link to this year’s vendor/sponsor application: \nVendor/Sponsor Application \nWe encourage you to secure your spot early and join us for another incredible day of connection\, fun\, and community engagement. \nThank you for being such an integral part of YouthFest’s success over the years. Your support helps us create memorable experiences for families\, youth\, and everyone in our community. \nIf you have any questions or need assistance with your application\, please don’t hesitate to reach out. We can’t wait to see you there! \nWarm regards\, \nThe Rockland County Youth Bureau Team
URL:https://northrocklandchamber.org/event/rockland-county-youthfest/
LOCATION:Rockland Community College\, 145 College Road\, Suffern\, NY\, 10901\, United States
CATEGORIES:Youth & Education
END:VEVENT
BEGIN:VEVENT
DTSTART;TZID=America/New_York:20170923T200000
DTEND;TZID=America/New_York:20170923T200000
DTSTAMP:20260422T204452
CREATED:20170427T144151Z
LAST-MODIFIED:20170627T205218Z
UID:10000040-1506196800-1506196800@northrocklandchamber.org
SUMMARY:Penguin Rep Theatre Presents: Shistory Happens
DESCRIPTION:Award-winning actor/comedian Robert Wuhl (“Arli$$\,” “Batman”) is back with a hysterical — and historical — follow-up to his HBO Comedy Specials “Assume Position 101” and “201.” We all know whensh*t happens\, but it takes the keen eye of Mr. Wuhl in this pop culture/history comedy show to point out when shistoryhappens! \nPurchase Tickets Here-https://tix5.centerstageticketing.com/sites/penguinrepertory/selectseats_ichart.php?chart_id=703&s_id=277&p_id=845
URL:https://northrocklandchamber.org/event/penguin-rep-theatre-presents-shistory-happens/
LOCATION:Rockland Community College\, 145 College Road\, Suffern\, NY\, 10901\, United States
CATEGORIES:Community Event,Member Event
END:VEVENT
BEGIN:VEVENT
DTSTART;VALUE=DATE:20170708
DTEND;VALUE=DATE:20170709
DTSTAMP:20260422T204452
CREATED:20170412T193234Z
LAST-MODIFIED:20170412T193234Z
UID:10000024-1499472000-1499558399@northrocklandchamber.org
SUMMARY:Annual Anthony Amoros Car Show
DESCRIPTION:
URL:https://northrocklandchamber.org/event/annual-anthony-amoros-car-show/
LOCATION:Rockland Community College\, 145 College Road\, Suffern\, NY\, 10901\, United States
CATEGORIES:Rockland Events
END:VEVENT
END:VCALENDAR