BEGIN:VCALENDAR
VERSION:2.0
PRODID:-//North Rockland Chamber of Commerce - ECPv6.15.20//NONSGML v1.0//EN
CALSCALE:GREGORIAN
METHOD:PUBLISH
X-WR-CALNAME:North Rockland Chamber of Commerce
X-ORIGINAL-URL:https://northrocklandchamber.org
X-WR-CALDESC:Events for North Rockland Chamber of Commerce
REFRESH-INTERVAL;VALUE=DURATION:PT1H
X-Robots-Tag:noindex
X-PUBLISHED-TTL:PT1H
BEGIN:VTIMEZONE
TZID:America/New_York
BEGIN:DAYLIGHT
TZOFFSETFROM:-0500
TZOFFSETTO:-0400
TZNAME:EDT
DTSTART:20170312T070000
END:DAYLIGHT
BEGIN:STANDARD
TZOFFSETFROM:-0400
TZOFFSETTO:-0500
TZNAME:EST
DTSTART:20171105T060000
END:STANDARD
BEGIN:DAYLIGHT
TZOFFSETFROM:-0500
TZOFFSETTO:-0400
TZNAME:EDT
DTSTART:20180311T070000
END:DAYLIGHT
BEGIN:STANDARD
TZOFFSETFROM:-0400
TZOFFSETTO:-0500
TZNAME:EST
DTSTART:20181104T060000
END:STANDARD
BEGIN:DAYLIGHT
TZOFFSETFROM:-0500
TZOFFSETTO:-0400
TZNAME:EDT
DTSTART:20190310T070000
END:DAYLIGHT
BEGIN:STANDARD
TZOFFSETFROM:-0400
TZOFFSETTO:-0500
TZNAME:EST
DTSTART:20191103T060000
END:STANDARD
END:VTIMEZONE
BEGIN:VEVENT
DTSTART;TZID=America/New_York:20181110T100000
DTEND;TZID=America/New_York:20181110T160000
DTSTAMP:20260423T040017
CREATED:20181031T165630Z
LAST-MODIFIED:20181031T175212Z
UID:10000087-1541844000-1541865600@northrocklandchamber.org
SUMMARY:RIBBON CUTTING FOR PET SUPPLIES PLUS!
DESCRIPTION:Come out\, with your pup\, and welcome a new neighbor! Free nail trimming\, for your pet of course\, starting at 10am till 4pm\, door buster sales\, indoor scavenger hunt and first 500 neighbors get a scratch off card with a surprise $5 -$50 to use on your next visit! Come join the NR Chamber of Commerce\, Supervisor Jim Monaghan and friends to show Pet Supplies PLUS what it means to open a business in NORTH ROCKLAND!  Pet Supplies PLUS will be offering NEW deals on Sunday\, November 11 starting at 10 am!  Don’t miss out on your Pet’s NEW favorite shopping “SPOT”!
URL:https://northrocklandchamber.org/event/ribbon-cutting-for-pet-supplies-plus/
LOCATION:Pet Supplies PLUS\, 22 Holt Drive\, Stony Point\, 10980\, United States
CATEGORIES:Community Event,North Rockland Chamber Events
END:VEVENT
END:VCALENDAR