BEGIN:VCALENDAR
VERSION:2.0
PRODID:-//North Rockland Chamber of Commerce - ECPv6.15.20//NONSGML v1.0//EN
CALSCALE:GREGORIAN
METHOD:PUBLISH
X-ORIGINAL-URL:https://northrocklandchamber.org
X-WR-CALDESC:Events for North Rockland Chamber of Commerce
REFRESH-INTERVAL;VALUE=DURATION:PT1H
X-Robots-Tag:noindex
X-PUBLISHED-TTL:PT1H
BEGIN:VTIMEZONE
TZID:UTC
BEGIN:STANDARD
TZOFFSETFROM:+0000
TZOFFSETTO:+0000
TZNAME:UTC
DTSTART:20160101T000000
END:STANDARD
END:VTIMEZONE
BEGIN:VEVENT
DTSTART;TZID=UTC:20170127T073000
DTEND;TZID=UTC:20170127T093000
DTSTAMP:20260423T032045
CREATED:20170111T074222Z
LAST-MODIFIED:20170118T160221Z
UID:10000016-1485502200-1485509400@northrocklandchamber.org
SUMMARY:Lynch's Endless Buffet With a Purpose CYBER SECURITY - What You Don't Know WILL Hurt You!
DESCRIPTION:Come join us for our monthly Chamber breakfast at Lynch’s Restaurant! You’ll get a great buffet to start your day. Each month we’ll also have a spotlight speaker to advise you on best practices for your business\, or local community involvement.  This month we present:  CYBER SECURITY – What You Don’t Know WILL Hurt You!  Presenter is Joseph Koval of LECS Solutions  and Systems Admin for the Rockland County Sheriffs Department.  LT. Koval has been involved in cyber security for over 25 years.  This is a MUST for business\, residents\, smart phone users\, anyone and everyone that uses the web! \nLearn how to protect yourself and your identity\, how to create strong passwords\, what passphrases are and why you need to be aware! \nMembers always get a discount! If you are not registered\, please click here for more details on how you can become a member of the North Rockland Chamber of Commerce and enjoy those benefits! \nDoors open at 7:30 am for Networking and breakfast is served at around 8 am. Speaker spotlight typically starts at 8:15 am and ends with Q & A. \nWe look forward to seeing you.
URL:https://northrocklandchamber.org/event/lynchs-endless-buffet-with-a-purpose/
LOCATION:Lynch’s Restaurant\, 79 S. Liberty Dr\, Stony Point\, NY\, 10980\, United States
ATTACH;FMTTYPE=image/jpeg:https://northrocklandchamber.org/wp-content/uploads/2017/01/Lynchs_073-300x199.jpg
END:VEVENT
END:VCALENDAR