BEGIN:VCALENDAR
VERSION:2.0
PRODID:-//North Rockland Chamber of Commerce - ECPv6.15.20//NONSGML v1.0//EN
CALSCALE:GREGORIAN
METHOD:PUBLISH
X-ORIGINAL-URL:https://northrocklandchamber.org
X-WR-CALDESC:Events for North Rockland Chamber of Commerce
REFRESH-INTERVAL;VALUE=DURATION:PT1H
X-Robots-Tag:noindex
X-PUBLISHED-TTL:PT1H
BEGIN:VTIMEZONE
TZID:America/New_York
BEGIN:DAYLIGHT
TZOFFSETFROM:-0500
TZOFFSETTO:-0400
TZNAME:EDT
DTSTART:20160313T070000
END:DAYLIGHT
BEGIN:STANDARD
TZOFFSETFROM:-0400
TZOFFSETTO:-0500
TZNAME:EST
DTSTART:20161106T060000
END:STANDARD
BEGIN:DAYLIGHT
TZOFFSETFROM:-0500
TZOFFSETTO:-0400
TZNAME:EDT
DTSTART:20170312T070000
END:DAYLIGHT
BEGIN:STANDARD
TZOFFSETFROM:-0400
TZOFFSETTO:-0500
TZNAME:EST
DTSTART:20171105T060000
END:STANDARD
BEGIN:DAYLIGHT
TZOFFSETFROM:-0500
TZOFFSETTO:-0400
TZNAME:EDT
DTSTART:20180311T070000
END:DAYLIGHT
BEGIN:STANDARD
TZOFFSETFROM:-0400
TZOFFSETTO:-0500
TZNAME:EST
DTSTART:20181104T060000
END:STANDARD
BEGIN:DAYLIGHT
TZOFFSETFROM:-0500
TZOFFSETTO:-0400
TZNAME:EDT
DTSTART:20190310T070000
END:DAYLIGHT
BEGIN:STANDARD
TZOFFSETFROM:-0400
TZOFFSETTO:-0500
TZNAME:EST
DTSTART:20191103T060000
END:STANDARD
BEGIN:DAYLIGHT
TZOFFSETFROM:-0500
TZOFFSETTO:-0400
TZNAME:EDT
DTSTART:20200308T070000
END:DAYLIGHT
BEGIN:STANDARD
TZOFFSETFROM:-0400
TZOFFSETTO:-0500
TZNAME:EST
DTSTART:20201101T060000
END:STANDARD
BEGIN:DAYLIGHT
TZOFFSETFROM:-0500
TZOFFSETTO:-0400
TZNAME:EDT
DTSTART:20210314T070000
END:DAYLIGHT
BEGIN:STANDARD
TZOFFSETFROM:-0400
TZOFFSETTO:-0500
TZNAME:EST
DTSTART:20211107T060000
END:STANDARD
BEGIN:DAYLIGHT
TZOFFSETFROM:-0500
TZOFFSETTO:-0400
TZNAME:EDT
DTSTART:20220313T070000
END:DAYLIGHT
BEGIN:STANDARD
TZOFFSETFROM:-0400
TZOFFSETTO:-0500
TZNAME:EST
DTSTART:20221106T060000
END:STANDARD
BEGIN:DAYLIGHT
TZOFFSETFROM:-0500
TZOFFSETTO:-0400
TZNAME:EDT
DTSTART:20230312T070000
END:DAYLIGHT
BEGIN:STANDARD
TZOFFSETFROM:-0400
TZOFFSETTO:-0500
TZNAME:EST
DTSTART:20231105T060000
END:STANDARD
END:VTIMEZONE
BEGIN:VEVENT
DTSTART;TZID=America/New_York:20220728T180000
DTEND;TZID=America/New_York:20220728T200000
DTSTAMP:20260422T131722
CREATED:20220701T223008Z
LAST-MODIFIED:20220725T140754Z
UID:10000110-1659031200-1659038400@northrocklandchamber.org
SUMMARY:Chamber Summer Soiree' at Hudson Water Club
DESCRIPTION:Back for our 7th annual summer soiree’\, the Chamber is looking forward to gathering once again with our valued members for a late afternoon gathering at one of our favorite North Rockland-based establishments\, the Hudson Water Club. \n\nMember Price for Summer Soiree: $25\nNon-Member Price: $30 (Pay at door\, only)\n\nWant to become a member? Pay just $50 at the door\, and we’ll include a membership for the rest of 2022\, along with your entry into the summer soiree’! \nLearn more about the benefits of joining the North Rockland Chamber of Commerce.
URL:https://northrocklandchamber.org/event/hudson2022/
LOCATION:Hudson Water Club\, 606 Beach Road\, West Haverstraw\, NY\, 10993\, United States
CATEGORIES:Member Event,North Rockland Chamber Events
ATTACH;FMTTYPE=image/png:https://northrocklandchamber.org/wp-content/uploads/2021/07/Screenshot-2021-07-05-132728.png
END:VEVENT
BEGIN:VEVENT
DTSTART;TZID=America/New_York:20220126T190000
DTEND;TZID=America/New_York:20220126T220000
DTSTAMP:20260422T131722
CREATED:20211113T173113Z
LAST-MODIFIED:20211208T200107Z
UID:10000102-1643223600-1643234400@northrocklandchamber.org
SUMMARY:North Rockland Chamber of Commerce: Annual Holiday Party
DESCRIPTION:Come join us for a lovely soiree at one of our favorite locations in North Rockland – the Hudson Water Club.\nWe’ll be offering the following at this year’s event: \n\nAn all-inclusive\, full buffet dinner\nDessert and coffee\nSodas and soft drinks\nSelf-serve hors d’oeuvres\nTwo wine or beer tickets per person will be distributed at the door\nCash bar after use of first two drink tickets\n\nWe’ll also be providing music by the band Spanky and the Radicals\, a three-piece acoustic band. \n \nHere’s some footage of them in their studio\, just practicing for fun. \nIt will be great for us all to once again connect in person\, and commemorate all that is good with the work that we have accomplished\, these past 22 months. \nSpecial guests to be announced shortly. If you wish to join us or sponsor the event\, please contact us\, RSVP and save the date.
URL:https://northrocklandchamber.org/event/annual-holiday-party/
LOCATION:Hudson Water Club\, 606 Beach Road\, West Haverstraw\, NY\, 10993\, United States
CATEGORIES:North Rockland Chamber Events
ATTACH;FMTTYPE=image/jpeg:https://northrocklandchamber.org/wp-content/uploads/2021/11/in_211203_18454990075_17182884284.19145846882_group5_bw__11122_1638489605_FA894FC6-.jpg
END:VEVENT
BEGIN:VEVENT
DTSTART;TZID=America/New_York:20210722T174500
DTEND;TZID=America/New_York:20210722T200000
DTSTAMP:20260422T131722
CREATED:20210705T172848Z
LAST-MODIFIED:20210706T154620Z
UID:10000095-1626975900-1626984000@northrocklandchamber.org
SUMMARY:North Rockland Chamber's Annual Summer Soiree' 2021
DESCRIPTION:Will be held at the Hudson Water Club on Thursday\, July 22nd at 5:45 pm. \n﻿ \nThe Hudson Water Club sits within a beautiful waterside setting\, against sweeping views of the Hudson River. Inside\, snazzy terrazzo tile\, vaulted ceilings\, and floor-to-ceiling windows make for tremendous use of the natural views of the river. The restaurant’s cuisine is Contemporary American with a strong emphasis on seafood\, designed by our CIA-trained and French Culinary graduate Executive Chef Dennis Cruz. Chef Cruz focuses on local ingredients and strives to feature seasonal items at their peak of freshness. Our diverse menus combine classic favorites with modern twists to be savored in surroundings of breathtaking river views and exceptional service and hospitality. \nMember price is $20\, and non-member price is $35. However\, if you sign up as a member for just $5 per month – you’ll save money instantly\, as well as grow your business with the great events\, networking and advertising opportunities that are offered through the North Rockland Chamber. \nLearn more about Chamber membership
URL:https://northrocklandchamber.org/event/north-rockland-chambers-annual-summer-soiree-2021/
LOCATION:Hudson Water Club\, 606 Beach Road\, West Haverstraw\, NY\, 10993\, United States
CATEGORIES:North Rockland Chamber Events
ATTACH;FMTTYPE=image/png:https://northrocklandchamber.org/wp-content/uploads/2021/07/Screenshot-2021-07-05-132728.png
END:VEVENT
BEGIN:VEVENT
DTSTART;TZID=America/New_York:20181011T180000
DTEND;TZID=America/New_York:20181011T210000
DTSTAMP:20260422T131722
CREATED:20180811T145215Z
LAST-MODIFIED:20181010T185147Z
UID:10000080-1539280800-1539291600@northrocklandchamber.org
SUMMARY:Harvest Dinner and Dance TICKET FORM ( A fundraiser for the 2019 NRHS Scholarship Program)
DESCRIPTION:SO SORRY BUT THIS EVENT IS SOLD OUT!  CATCH YOU NEXT YEAR!
URL:https://northrocklandchamber.org/event/harvest-dinner-and-dance-a-fundraiser-for-the-2019-nrhs-scholarship-program/
LOCATION:Hudson Water Club\, 606 Beach Road\, West Haverstraw\, NY\, 10993\, United States
CATEGORIES:Community Benefit,Community Event,North Rockland Chamber Events
ATTACH;FMTTYPE=image/jpeg:https://northrocklandchamber.org/wp-content/uploads/2018/08/TownHavLogo11.jpg
END:VEVENT
BEGIN:VEVENT
DTSTART;TZID=America/New_York:20180731T180000
DTEND;TZID=America/New_York:20180731T200000
DTSTAMP:20260422T131722
CREATED:20180730T202859Z
LAST-MODIFIED:20180730T202859Z
UID:10000079-1533060000-1533067200@northrocklandchamber.org
SUMMARY:DINNER WITH A VIEW
DESCRIPTION:Come and join us at the beautiful Hudson Water Club and engage \nin some great conversation\, try your luck winning some donated door prizes from business around the area and taste some of the favorites from the chefs at the club!  We are giving away so many great gifts and will be donating proceeds from the cost to our 2019 North Rockland Scholarship Program!  Come out support your business\, the community and our schools!   NRCC members are $25 while friends and guests are $30. \nMembers: \n http://PayPal.me/northrocklandchamber/25 \nNon Members and Friends: \nhttp://PayPal.me/northrocklandchamber/30
URL:https://northrocklandchamber.org/event/dinner-with-a-view/
LOCATION:Hudson Water Club\, 606 Beach Road\, West Haverstraw\, NY\, 10993\, United States
CATEGORIES:Community Benefit,Community Event,Member Event,North Rockland Chamber Events
END:VEVENT
BEGIN:VEVENT
DTSTART;TZID=America/New_York:20171012T183000
DTEND;TZID=America/New_York:20171012T203000
DTSTAMP:20260422T131722
CREATED:20171006T221309Z
LAST-MODIFIED:20171010T222916Z
UID:10000054-1507833000-1507840200@northrocklandchamber.org
SUMMARY:Our 1st Multi-Chamber Event! (5 Chambers of Commerce)
DESCRIPTION:We have been working with several Chambers of Commerce in Rockland\, and have organized our first multi-Chamber event! And it’s in North Rockland! And it’s just $20 to attend! ($30 non-members) \nPlease RSVP on our Facebook Event! \n \n\n\n \n\n\nType\n\n\nMember $20.00 USDNon-Member $25.00 USD \n\n\n\n\n\n\n \nThat’s right – the Chambers of Commerce from the following areas will be participating in the first multi-Chamber event at the Hudson Water Club\, this Thursday\, 10/12\, at 6:30 pm: \n\nNorth Rockland\nNanuet\nNyack\nSuffern\nNew City\n\nThere might be several more! So we hope you can come to this event to help represent our Chamber’s awesomeness\, and participate in what will be the beginning of a great alliance in Rockland County. \nPlease RSVP on our Facebook Event!  \n \n\n\n \n\n\nType\n\n\nMember $20.00 USDNon-Member $25.00 USD \n\n\n\n\n\n\n \nThanks and see you there! \n 
URL:https://northrocklandchamber.org/event/our-1st-multi-chamber-event-5-chambers-of-commerce/
LOCATION:Hudson Water Club\, 606 Beach Road\, West Haverstraw\, NY\, 10993\, United States
CATEGORIES:North Rockland Chamber Events
ATTACH;FMTTYPE=image/jpeg:https://northrocklandchamber.org/wp-content/uploads/2017/10/hudson-water-club.jpg
END:VEVENT
END:VCALENDAR