BEGIN:VCALENDAR
VERSION:2.0
PRODID:-//North Rockland Chamber of Commerce - ECPv6.15.20//NONSGML v1.0//EN
CALSCALE:GREGORIAN
METHOD:PUBLISH
X-WR-CALNAME:North Rockland Chamber of Commerce
X-ORIGINAL-URL:https://northrocklandchamber.org
X-WR-CALDESC:Events for North Rockland Chamber of Commerce
REFRESH-INTERVAL;VALUE=DURATION:PT1H
X-Robots-Tag:noindex
X-PUBLISHED-TTL:PT1H
BEGIN:VTIMEZONE
TZID:America/New_York
BEGIN:DAYLIGHT
TZOFFSETFROM:-0500
TZOFFSETTO:-0400
TZNAME:EDT
DTSTART:20160313T070000
END:DAYLIGHT
BEGIN:STANDARD
TZOFFSETFROM:-0400
TZOFFSETTO:-0500
TZNAME:EST
DTSTART:20161106T060000
END:STANDARD
BEGIN:DAYLIGHT
TZOFFSETFROM:-0500
TZOFFSETTO:-0400
TZNAME:EDT
DTSTART:20170312T070000
END:DAYLIGHT
BEGIN:STANDARD
TZOFFSETFROM:-0400
TZOFFSETTO:-0500
TZNAME:EST
DTSTART:20171105T060000
END:STANDARD
BEGIN:DAYLIGHT
TZOFFSETFROM:-0500
TZOFFSETTO:-0400
TZNAME:EDT
DTSTART:20180311T070000
END:DAYLIGHT
BEGIN:STANDARD
TZOFFSETFROM:-0400
TZOFFSETTO:-0500
TZNAME:EST
DTSTART:20181104T060000
END:STANDARD
BEGIN:DAYLIGHT
TZOFFSETFROM:-0500
TZOFFSETTO:-0400
TZNAME:EDT
DTSTART:20190310T070000
END:DAYLIGHT
BEGIN:STANDARD
TZOFFSETFROM:-0400
TZOFFSETTO:-0500
TZNAME:EST
DTSTART:20191103T060000
END:STANDARD
END:VTIMEZONE
BEGIN:VEVENT
DTSTART;TZID=America/New_York:20180322T123000
DTEND;TZID=America/New_York:20180322T133000
DTSTAMP:20260422T234509
CREATED:20180321T161544Z
LAST-MODIFIED:20180321T170005Z
UID:10000075-1521721800-1521725400@northrocklandchamber.org
SUMMARY:RIBBON CUTTING CEREMONY FOR MARY DURSO PHOTOGRAPY
DESCRIPTION:Mary DUrso Photography   Garner Arts Center BLDG 24\, SUITE M2\, 55 Railroad Avenue\, W. Haverstraw\, NY\nCome out and help us welcome a very talented women that has that artistic “EYE” for catching special moments\, natures beauty\, events\, and even some phenomenons. Let her magic of photography entice your eyes and get lost in the world from a prospective you haven’t seen before. Mary is ready to show you what she creates for others\, herself and perhaps for you! Join me and the North Rockland Chamber in welcoming Mary DUrso Photography to the Garner Arts\, here in North Rockland and congratulating her on her new space! Snacks will be available for this ceremony.
URL:https://northrocklandchamber.org/event/ribbon-cutting-ceremony-for-mary-durso-photograpy/
LOCATION:Garner Arts Center\, 55 West Railroad Ave\, Garnerville\, NY\, 10923\, United States
CATEGORIES:North Rockland Chamber Events
END:VEVENT
BEGIN:VEVENT
DTSTART;TZID=America/New_York:20171121T180000
DTEND;TZID=America/New_York:20171121T180000
DTSTAMP:20260422T234509
CREATED:20170412T194520Z
LAST-MODIFIED:20171010T162912Z
UID:10000032-1511287200-1511287200@northrocklandchamber.org
SUMMARY:GARNER Autumn Electronix Festival
DESCRIPTION:When Sat\, October 21\, 6pm – Sun\, October 22\, 12am \nWhere 55 W Railroad Ave\, Garnerville\, NY 10923\, USA (map) \nTickets: $12 seniors\, students\, military / $13.50 adults in avance\, $15 adults at the door \nDescription ANNIHILVS POWER ELECTRONIX proudly joins forces with GARNER Arts Center for the GARNER ARTS AUTUMN ELECTRONIX FESTIVAL\, a specially-curated selection of seven live acts representing many varied facets of electronic music presented in an 8\,000 sq ft pre-civil war warehouse. Annihilvs is an independent underground record label specializing in a broad spectrum of obscure forms of music and featuring acts reflecting many facets of the international underground music community. The evening features a lineup of seven live acts\, three djs\, silk aerials and an exhibition of visual art. http://www.garnerartscenter.org/events/
URL:https://northrocklandchamber.org/event/garner-gala/
LOCATION:Garner Arts Center\, 55 West Railroad Ave\, Garnerville\, NY\, 10923\, United States
END:VEVENT
BEGIN:VEVENT
DTSTART;VALUE=DATE:20171021
DTEND;VALUE=DATE:20171022
DTSTAMP:20260422T234509
CREATED:20170412T194415Z
LAST-MODIFIED:20170412T194415Z
UID:10000031-1508544000-1508630399@northrocklandchamber.org
SUMMARY:Ambient Drone Festival
DESCRIPTION:TBA
URL:https://northrocklandchamber.org/event/ambient-drone-festival/
LOCATION:Garner Arts Center\, 55 West Railroad Ave\, Garnerville\, NY\, 10923\, United States
END:VEVENT
BEGIN:VEVENT
DTSTART;TZID=America/New_York:20170923T183000
DTEND;TZID=America/New_York:20170923T230000
DTSTAMP:20260422T234509
CREATED:20170909T165418Z
LAST-MODIFIED:20170909T165418Z
UID:10000051-1506191400-1506207600@northrocklandchamber.org
SUMMARY:BRICK ALLEY BLOCK PARTY!!!
DESCRIPTION:BRICK ALLEY BLOCK PARTY\nSaturday\, September 23\, 2017 – 6:30pm doors\nAdults $12\, Seniors/Student/Military $10\nBUY TICKETS HERE \nNote: Tickets will not be mailed for this event; your name will be at the door. \n\n\n\n\n\n\n\n\n\n\n\n\n\nBack for a third year\, this party is quickly becoming one of the most talked about in Rockland County. Brick Alley Block Party celebrates the opening of GARNER’s 2017 – 2018 Season and the one-year anniversary of the on-site craft brewery\, Industrial Arts Brewing Company. Brick Alley Block Party is an after-hours event filled with immersive art\, food trucks\, a milk and cookie cart & craft beverage bars in three connecting industrial spaces and culminating in a sundown dj set with MAX SPRAUER in a 19th century Brick Alleyway. This year boasts a lineup including a world premiere virtual reality performance\, a funk steel drum band\, painted women\, silk installations\, site specific dance\, art exhibitions\, light sculptures and more. At this year’s event\, GARNER Arts Center welcomes the premiere of Virtual Reality performance\, Mechanica\, an exploration of GARNER Arts Center as told through a Virtual World. \nMechanica is an evening-length work created in collaboration between visual artist Leo Castaneda and musician Molly Joyce. Featuring projections of Castaneda’s virtual environments along with a live musical performance by Joyce on her vintage toy organ\, the work will explore the deep yet perhaps ambiguous history and future of GARNER Arts Center that can leave much up to one’s imagination. Mechanica address GARNER Arts Center’s history as a textile mill\, reflected in Castaneda’s virtual animations which fall between fashion and sculpture\, questioning exactly what can be considered what and at what point do the facets of the textile mill become something to be preserved and relished rather than disregarded. Lasting around 30 minutes\, the work will be performed throughout the evening in GARNER Arts Center’s stunning 8\,000 sq ft Dye Works Warehouse space. \nConfirmed artists include; Composer/Performer Molly Joyce and Virtual Artist Leo Castaneda\, DJ Max Sprauer\, The Chapman Brothers\, Reid Stowe\, Hudson Valley Ballet Company\, Jamie Gaviola\, Jamie Kimak\, Adam Gerney \nThis event is sponsored by; Rockland County Tourism\, Industrial Arts Brewing Company\, Garnerville Arts & Industrial Center\, Rockland Music Center. Thank you to Arts Center/South Florida for the help in creating Mechanica.
URL:https://northrocklandchamber.org/event/brick-alley-block-party/
LOCATION:Garner Arts Center\, 55 West Railroad Ave\, Garnerville\, NY\, 10923\, United States
END:VEVENT
BEGIN:VEVENT
DTSTART;VALUE=DATE:20170915
DTEND;VALUE=DATE:20170916
DTSTAMP:20260422T234509
CREATED:20170412T194110Z
LAST-MODIFIED:20170627T205049Z
UID:10000029-1505433600-1505519999@northrocklandchamber.org
SUMMARY:Dancing Under the Stars in the Village of West Haverstraw
DESCRIPTION:Band TBA
URL:https://northrocklandchamber.org/event/dancing-under-the-stars-in-the-village-of-west-haverstraw/
LOCATION:Garner Arts Center\, 55 West Railroad Ave\, Garnerville\, NY\, 10923\, United States
CATEGORIES:Community Event
END:VEVENT
BEGIN:VEVENT
DTSTART;TZID=America/New_York:20170520T110000
DTEND;TZID=America/New_York:20170520T180000
DTSTAMP:20260422T234509
CREATED:20170412T191039Z
LAST-MODIFIED:20170412T191039Z
UID:10000012-1495278000-1495303200@northrocklandchamber.org
SUMMARY:GARNER Arts Festival
DESCRIPTION:
URL:https://northrocklandchamber.org/event/garner-arts-festival/
LOCATION:Garner Arts Center\, 55 West Railroad Ave\, Garnerville\, NY\, 10923\, United States
CATEGORIES:Community Event,Rockland Events
END:VEVENT
BEGIN:VEVENT
DTSTART;TZID=America/New_York:20170427T170000
DTEND;TZID=America/New_York:20170427T200000
DTSTAMP:20260422T234509
CREATED:20170412T185149Z
LAST-MODIFIED:20170412T185149Z
UID:10000007-1493312400-1493323200@northrocklandchamber.org
SUMMARY:You Can Make it in Rockland!
DESCRIPTION:Rockland Economic Development Council & CBS Newsradio Networking Event
URL:https://northrocklandchamber.org/event/you-can-make-it-in-rockland/
LOCATION:Garner Arts Center\, 55 West Railroad Ave\, Garnerville\, NY\, 10923\, United States
CATEGORIES:Rockland Events
END:VEVENT
BEGIN:VEVENT
DTSTART;TZID=America/New_York:20170422T193000
DTEND;TZID=America/New_York:20170422T193000
DTSTAMP:20260422T234509
CREATED:20170412T171158Z
LAST-MODIFIED:20170412T171158Z
UID:10000005-1492889400-1492889400@northrocklandchamber.org
SUMMARY:Paterson Screening
DESCRIPTION:
URL:https://northrocklandchamber.org/event/paterson-screening/
LOCATION:Garner Arts Center\, 55 West Railroad Ave\, Garnerville\, NY\, 10923\, United States
CATEGORIES:Rockland Events
END:VEVENT
BEGIN:VEVENT
DTSTART;TZID=America/New_York:20170126T180000
DTEND;TZID=America/New_York:20170126T200000
DTSTAMP:20260422T234509
CREATED:20171010T143355Z
LAST-MODIFIED:20171010T143355Z
UID:10000057-1485453600-1485460800@northrocklandchamber.org
SUMMARY:Ribbon Cutting Ceremony: Rafael's Print Shop at Garner Arts!
DESCRIPTION:Come out and join the Chamber in welcoming Rafael’s Print Shop to Garner Arts Center in Garnerville!  We are proud to welcome them as a member of the Chamber and chose to be a member of our community by moving their business here!  Refreshments will be serviced.  Come see this open space and preview their work!
URL:https://northrocklandchamber.org/event/ribbon-cutting-ceremony-rafaels-print-shop-at-garner-arts/
LOCATION:Garner Arts Center\, 55 West Railroad Ave\, Garnerville\, NY\, 10923\, United States
END:VEVENT
END:VCALENDAR