BEGIN:VCALENDAR
VERSION:2.0
PRODID:-//North Rockland Chamber of Commerce - ECPv6.15.20//NONSGML v1.0//EN
CALSCALE:GREGORIAN
METHOD:PUBLISH
X-ORIGINAL-URL:https://northrocklandchamber.org
X-WR-CALDESC:Events for North Rockland Chamber of Commerce
REFRESH-INTERVAL;VALUE=DURATION:PT1H
X-Robots-Tag:noindex
X-PUBLISHED-TTL:PT1H
BEGIN:VTIMEZONE
TZID:America/New_York
BEGIN:DAYLIGHT
TZOFFSETFROM:-0500
TZOFFSETTO:-0400
TZNAME:EDT
DTSTART:20160313T070000
END:DAYLIGHT
BEGIN:STANDARD
TZOFFSETFROM:-0400
TZOFFSETTO:-0500
TZNAME:EST
DTSTART:20161106T060000
END:STANDARD
BEGIN:DAYLIGHT
TZOFFSETFROM:-0500
TZOFFSETTO:-0400
TZNAME:EDT
DTSTART:20170312T070000
END:DAYLIGHT
BEGIN:STANDARD
TZOFFSETFROM:-0400
TZOFFSETTO:-0500
TZNAME:EST
DTSTART:20171105T060000
END:STANDARD
BEGIN:DAYLIGHT
TZOFFSETFROM:-0500
TZOFFSETTO:-0400
TZNAME:EDT
DTSTART:20180311T070000
END:DAYLIGHT
BEGIN:STANDARD
TZOFFSETFROM:-0400
TZOFFSETTO:-0500
TZNAME:EST
DTSTART:20181104T060000
END:STANDARD
END:VTIMEZONE
BEGIN:VEVENT
DTSTART;TZID=America/New_York:20170913T183000
DTEND;TZID=America/New_York:20170913T203000
DTSTAMP:20260423T030542
CREATED:20170906T151121Z
LAST-MODIFIED:20170906T151121Z
UID:10000050-1505327400-1505334600@northrocklandchamber.org
SUMMARY:ALL HAIL CAESAR! EVENING NETWORKING AT CAESAR'S GRILL!
DESCRIPTION:HEY EVERYONE! IT’S NETWORKING TIME! North Rockland Chamber of Commerce Presents: \nALL HAIL CAESAR! Yes\, we are going to some place different where you can find authentic Italian cuisine\, ambiance and a martini! Come join us for our monthly evening Networking to introduce members and friends to each other and Caesar’s Grill\, located in Garnerville\, NY. We know it is not our regular third Wednesday networking but in respect to the upcoming Jewish holidays\, we are hoping ALL members will be free to attend and enjoy Caesar’s magnificent appetizers and cash bar! This is a free event for members only\, we only ask for a $5.00 donation pp to go toward those who will be serving us! (non-members will be asked to pay $10.00 pp) \nSTAY FOR DINNER AFTER THE NETWORKING!
URL:https://northrocklandchamber.org/event/all-hail-caesar-evening-networking-at-caesars-grill/
LOCATION:Caesar’s Grill\, 120 west Rampo Road\, Garnerville\, NY\, 10923
END:VEVENT
END:VCALENDAR