BEGIN:VCALENDAR
VERSION:2.0
PRODID:-//North Rockland Chamber of Commerce - ECPv6.15.20//NONSGML v1.0//EN
CALSCALE:GREGORIAN
METHOD:PUBLISH
X-ORIGINAL-URL:https://northrocklandchamber.org
X-WR-CALDESC:Events for North Rockland Chamber of Commerce
REFRESH-INTERVAL;VALUE=DURATION:PT1H
X-Robots-Tag:noindex
X-PUBLISHED-TTL:PT1H
BEGIN:VTIMEZONE
TZID:America/New_York
BEGIN:DAYLIGHT
TZOFFSETFROM:-0500
TZOFFSETTO:-0400
TZNAME:EDT
DTSTART:20290311T070000
END:DAYLIGHT
BEGIN:STANDARD
TZOFFSETFROM:-0400
TZOFFSETTO:-0500
TZNAME:EST
DTSTART:20291104T060000
END:STANDARD
BEGIN:DAYLIGHT
TZOFFSETFROM:-0500
TZOFFSETTO:-0400
TZNAME:EDT
DTSTART:20300310T070000
END:DAYLIGHT
BEGIN:STANDARD
TZOFFSETFROM:-0400
TZOFFSETTO:-0500
TZNAME:EST
DTSTART:20301103T060000
END:STANDARD
BEGIN:DAYLIGHT
TZOFFSETFROM:-0500
TZOFFSETTO:-0400
TZNAME:EDT
DTSTART:20310309T070000
END:DAYLIGHT
BEGIN:STANDARD
TZOFFSETFROM:-0400
TZOFFSETTO:-0500
TZNAME:EST
DTSTART:20311102T060000
END:STANDARD
BEGIN:DAYLIGHT
TZOFFSETFROM:-0500
TZOFFSETTO:-0400
TZNAME:EDT
DTSTART:20320314T070000
END:DAYLIGHT
BEGIN:STANDARD
TZOFFSETFROM:-0400
TZOFFSETTO:-0500
TZNAME:EST
DTSTART:20321107T060000
END:STANDARD
END:VTIMEZONE
BEGIN:VEVENT
DTSTART;TZID=America/New_York:20300709T080000
DTEND;TZID=America/New_York:20300709T100000
DTSTAMP:20260425T081540
CREATED:20260411T010641Z
LAST-MODIFIED:20260411T010641Z
UID:10000406-1909814400-1909821600@northrocklandchamber.org
SUMMARY:Monthly Member Breakfast
DESCRIPTION:
URL:https://northrocklandchamber.org/event/monthly-member-breakfast-2-2/2030-07-09/
LOCATION:Stony Point Pancake Factory\, 32 South Liberty Drive\, Stony Point\, NY\, 10980\, United States
CATEGORIES:North Rockland Chamber Events
END:VEVENT
BEGIN:VEVENT
DTSTART;TZID=America/New_York:20300813T080000
DTEND;TZID=America/New_York:20300813T100000
DTSTAMP:20260425T081540
CREATED:20260411T010641Z
LAST-MODIFIED:20260411T010641Z
UID:10000407-1912838400-1912845600@northrocklandchamber.org
SUMMARY:Monthly Member Breakfast
DESCRIPTION:
URL:https://northrocklandchamber.org/event/monthly-member-breakfast-2-2/2030-08-13/
LOCATION:Stony Point Pancake Factory\, 32 South Liberty Drive\, Stony Point\, NY\, 10980\, United States
CATEGORIES:North Rockland Chamber Events
END:VEVENT
BEGIN:VEVENT
DTSTART;TZID=America/New_York:20300910T080000
DTEND;TZID=America/New_York:20300910T100000
DTSTAMP:20260425T081540
CREATED:20260411T010641Z
LAST-MODIFIED:20260411T010641Z
UID:10000408-1915257600-1915264800@northrocklandchamber.org
SUMMARY:Monthly Member Breakfast
DESCRIPTION:
URL:https://northrocklandchamber.org/event/monthly-member-breakfast-2-2/2030-09-10/
LOCATION:Stony Point Pancake Factory\, 32 South Liberty Drive\, Stony Point\, NY\, 10980\, United States
CATEGORIES:North Rockland Chamber Events
END:VEVENT
BEGIN:VEVENT
DTSTART;TZID=America/New_York:20301008T080000
DTEND;TZID=America/New_York:20301008T100000
DTSTAMP:20260425T081540
CREATED:20260411T010641Z
LAST-MODIFIED:20260411T010641Z
UID:10000409-1917676800-1917684000@northrocklandchamber.org
SUMMARY:Monthly Member Breakfast
DESCRIPTION:
URL:https://northrocklandchamber.org/event/monthly-member-breakfast-2-2/2030-10-08/
LOCATION:Stony Point Pancake Factory\, 32 South Liberty Drive\, Stony Point\, NY\, 10980\, United States
CATEGORIES:North Rockland Chamber Events
END:VEVENT
BEGIN:VEVENT
DTSTART;TZID=America/New_York:20301112T080000
DTEND;TZID=America/New_York:20301112T100000
DTSTAMP:20260425T081540
CREATED:20260411T010641Z
LAST-MODIFIED:20260411T010641Z
UID:10000410-1920700800-1920708000@northrocklandchamber.org
SUMMARY:Monthly Member Breakfast
DESCRIPTION:
URL:https://northrocklandchamber.org/event/monthly-member-breakfast-2-2/2030-11-12/
LOCATION:Stony Point Pancake Factory\, 32 South Liberty Drive\, Stony Point\, NY\, 10980\, United States
CATEGORIES:North Rockland Chamber Events
END:VEVENT
BEGIN:VEVENT
DTSTART;TZID=America/New_York:20301210T080000
DTEND;TZID=America/New_York:20301210T100000
DTSTAMP:20260425T081540
CREATED:20260411T010641Z
LAST-MODIFIED:20260411T010641Z
UID:10000411-1923120000-1923127200@northrocklandchamber.org
SUMMARY:Monthly Member Breakfast
DESCRIPTION:
URL:https://northrocklandchamber.org/event/monthly-member-breakfast-2-2/2030-12-10/
LOCATION:Stony Point Pancake Factory\, 32 South Liberty Drive\, Stony Point\, NY\, 10980\, United States
CATEGORIES:North Rockland Chamber Events
END:VEVENT
BEGIN:VEVENT
DTSTART;TZID=America/New_York:20310114T080000
DTEND;TZID=America/New_York:20310114T100000
DTSTAMP:20260425T081540
CREATED:20260411T010641Z
LAST-MODIFIED:20260411T010641Z
UID:10000412-1926144000-1926151200@northrocklandchamber.org
SUMMARY:Monthly Member Breakfast
DESCRIPTION:
URL:https://northrocklandchamber.org/event/monthly-member-breakfast-2-2/2031-01-14/
LOCATION:Stony Point Pancake Factory\, 32 South Liberty Drive\, Stony Point\, NY\, 10980\, United States
CATEGORIES:North Rockland Chamber Events
END:VEVENT
BEGIN:VEVENT
DTSTART;TZID=America/New_York:20310211T080000
DTEND;TZID=America/New_York:20310211T100000
DTSTAMP:20260425T081540
CREATED:20260411T010641Z
LAST-MODIFIED:20260411T010641Z
UID:10000413-1928563200-1928570400@northrocklandchamber.org
SUMMARY:Monthly Member Breakfast
DESCRIPTION:
URL:https://northrocklandchamber.org/event/monthly-member-breakfast-2-2/2031-02-11/
LOCATION:Stony Point Pancake Factory\, 32 South Liberty Drive\, Stony Point\, NY\, 10980\, United States
CATEGORIES:North Rockland Chamber Events
END:VEVENT
BEGIN:VEVENT
DTSTART;TZID=America/New_York:20310311T080000
DTEND;TZID=America/New_York:20310311T100000
DTSTAMP:20260425T081540
CREATED:20260411T010641Z
LAST-MODIFIED:20260411T010641Z
UID:10000414-1930982400-1930989600@northrocklandchamber.org
SUMMARY:Monthly Member Breakfast
DESCRIPTION:
URL:https://northrocklandchamber.org/event/monthly-member-breakfast-2-2/2031-03-11/
LOCATION:Stony Point Pancake Factory\, 32 South Liberty Drive\, Stony Point\, NY\, 10980\, United States
CATEGORIES:North Rockland Chamber Events
END:VEVENT
BEGIN:VEVENT
DTSTART;TZID=America/New_York:20310408T080000
DTEND;TZID=America/New_York:20310408T100000
DTSTAMP:20260425T081540
CREATED:20260411T010641Z
LAST-MODIFIED:20260411T010641Z
UID:10000415-1933401600-1933408800@northrocklandchamber.org
SUMMARY:Monthly Member Breakfast
DESCRIPTION:
URL:https://northrocklandchamber.org/event/monthly-member-breakfast-2-2/2031-04-08/
LOCATION:Stony Point Pancake Factory\, 32 South Liberty Drive\, Stony Point\, NY\, 10980\, United States
CATEGORIES:North Rockland Chamber Events
END:VEVENT
END:VCALENDAR