BEGIN:VCALENDAR
VERSION:2.0
PRODID:-//North Rockland Chamber of Commerce - ECPv6.15.20//NONSGML v1.0//EN
CALSCALE:GREGORIAN
METHOD:PUBLISH
X-WR-CALNAME:North Rockland Chamber of Commerce
X-ORIGINAL-URL:https://northrocklandchamber.org
X-WR-CALDESC:Events for North Rockland Chamber of Commerce
REFRESH-INTERVAL;VALUE=DURATION:PT1H
X-Robots-Tag:noindex
X-PUBLISHED-TTL:PT1H
BEGIN:VTIMEZONE
TZID:America/New_York
BEGIN:DAYLIGHT
TZOFFSETFROM:-0500
TZOFFSETTO:-0400
TZNAME:EDT
DTSTART:20250309T070000
END:DAYLIGHT
BEGIN:STANDARD
TZOFFSETFROM:-0400
TZOFFSETTO:-0500
TZNAME:EST
DTSTART:20251102T060000
END:STANDARD
BEGIN:DAYLIGHT
TZOFFSETFROM:-0500
TZOFFSETTO:-0400
TZNAME:EDT
DTSTART:20260308T070000
END:DAYLIGHT
BEGIN:STANDARD
TZOFFSETFROM:-0400
TZOFFSETTO:-0500
TZNAME:EST
DTSTART:20261101T060000
END:STANDARD
BEGIN:DAYLIGHT
TZOFFSETFROM:-0500
TZOFFSETTO:-0400
TZNAME:EDT
DTSTART:20270314T070000
END:DAYLIGHT
BEGIN:STANDARD
TZOFFSETFROM:-0400
TZOFFSETTO:-0500
TZNAME:EST
DTSTART:20271107T060000
END:STANDARD
END:VTIMEZONE
BEGIN:VEVENT
DTSTART;TZID=America/New_York:20260420T120000
DTEND;TZID=America/New_York:20260420T130000
DTSTAMP:20260420T043058
CREATED:20260411T030501Z
LAST-MODIFIED:20260411T030501Z
UID:10000426-1776686400-1776690000@northrocklandchamber.org
SUMMARY:Contracts & Risk Management for Small Business Owners
DESCRIPTION:Date: 4/20/2026\nTime: 12:00 PM – 1:00 PM (EDT)\nRegistration Deadline: 4/20/2026 11:30 AM (EDT)\nFee: No Fee \nPoint of Contact: Andrew Flamm (212) 618-6655 \nProgram Format: Online Meeting (Live)\nTraining Topics: Legal Issues\nDescription: \n\nThe Pace University Small Business Development Center will host a webinar with Dr. Jessica A. Magaldi to introduce small business owners and entrepreneurs to issues related to contracts and risk management\, including the importance and significance of: \n\nContracts and mutual assent\nRisks and responsibilities of the contractual relationship\nAssessing business risk for working with Letter Agreements\, Memoranda of Understanding\, Letters of Intent\, and other less formal contract documents\nUnderstanding key contractual elements and clauses to mitigate risk and spot issues on which to seek legal assistance\nWorking effectively with counsel.\n\n***** \nFunded in part through a Cooperative Agreement with the U.S. Small Business Administration. All opinions\, conclusions\, and/or recommendations expressed herein are those of the speaker(s) and do not necessarily reflect the views of the SBA or the SBDC. Full funding disclosures are available at https://nysbdc.org/funding-disclosures. \n\nInstructions: \nRegister HERE to receive your Zoom access link for the webinar.
URL:https://northrocklandchamber.org/event/contracts-risk-management-for-small-business-owners/
END:VEVENT
END:VCALENDAR